BEGIN:VCALENDAR
VERSION:2.0
PRODID:-//SVP Luzern //NONSGML Events //EN
CALSCALE:GREGORIAN
X-WR-CALNAME:SVP Luzern
BEGIN:VEVENT
CREATED:20221006T062608Z
UID:24557
DTEND:20230528T000000
DTSTART:20230528T000000
DTSTAMP:20231024T060238Z
LOCATION:
DESCRIPTION:
SUMMARY:Pfingsten
ORGANIZER:
URL;VALUE=URI:https://www.svp-lu.ch/termine/pfingsten-5/
TRANSP:OPAQUE
END:VEVENT
END:VCALENDAR
