BEGIN:VCALENDAR
VERSION:2.0
PRODID:-//SVP Luzern //NONSGML Events //EN
CALSCALE:GREGORIAN
X-WR-CALNAME:SVP Luzern
BEGIN:VEVENT
CREATED:20221006T062608Z
UID:24558
DTEND:20230529T000000
DTSTART:20230529T000000
DTSTAMP:20231024T055027Z
LOCATION:
DESCRIPTION:
SUMMARY:Pfingstmontag
ORGANIZER:
URL;VALUE=URI:https://www.svp-lu.ch/termine/pfingstmontag-5/
TRANSP:OPAQUE
END:VEVENT
END:VCALENDAR
