BEGIN:VCALENDAR
VERSION:2.0
PRODID:-//SVP Luzern //NONSGML Events //EN
CALSCALE:GREGORIAN
X-WR-CALNAME:SVP Luzern
BEGIN:VEVENT
CREATED:20221006T062609Z
UID:24575
DTEND:20230629T220000
DTSTART:20230629T180000
DTSTAMP:20231024T060123Z
LOCATION:Stadt Luzern
DESCRIPTION:
SUMMARY:Grossstadtratssitzung Luzern
ORGANIZER:
URL;VALUE=URI:https://www.svp-lu.ch/termine/grossstadtratssitzung-luzern-59/
TRANSP:OPAQUE
END:VEVENT
END:VCALENDAR
