BEGIN:VCALENDAR
VERSION:2.0
PRODID:-//SVP Luzern //NONSGML Events //EN
CALSCALE:GREGORIAN
X-WR-CALNAME:SVP Luzern
BEGIN:VEVENT
CREATED:20221006T062609Z
UID:24577
DTEND:20230630T190000
DTSTART:20230630T140000
DTSTAMP:20231024T055526Z
LOCATION:
DESCRIPTION:
SUMMARY:Parteileitung/Parteivorstand mit Sekretären
ORGANIZER:ZG
URL;VALUE=URI:https://www.svp-lu.ch/termine/parteileitung-parteivorstand-mit-sekretaeren-20/
TRANSP:OPAQUE
END:VEVENT
END:VCALENDAR
