BEGIN:VCALENDAR
VERSION:2.0
PRODID:-//SVP Luzern //NONSGML Events //EN
CALSCALE:GREGORIAN
X-WR-CALNAME:SVP Luzern
BEGIN:VEVENT
CREATED:20221006T062612Z
UID:24622
DTEND:20231026T210000
DTSTART:20231026T163000
DTSTAMP:20231024T044100Z
LOCATION:
DESCRIPTION:
SUMMARY:GL-Sitzung 2023/10
ORGANIZER:
URL;VALUE=URI:https://www.svp-lu.ch/termine/gl-sitzung-2023-10/
TRANSP:OPAQUE
END:VEVENT
END:VCALENDAR
