BEGIN:VCALENDAR
VERSION:2.0
PRODID:-//SVP Luzern //NONSGML Events //EN
CALSCALE:GREGORIAN
X-WR-CALNAME:SVP Luzern
BEGIN:VEVENT
CREATED:20221006T062612Z
UID:24624
DTEND:20231026T220000
DTSTART:20231026T193000
DTSTAMP:20231024T043848Z
LOCATION:Vogelsang
DESCRIPTION:
SUMMARY:Sitzung Parteileitung 2023/05
ORGANIZER:
URL;VALUE=URI:https://www.svp-lu.ch/termine/sitzung-parteileitung-2023-05/
TRANSP:OPAQUE
END:VEVENT
END:VCALENDAR
