BEGIN:VCALENDAR
VERSION:2.0
PRODID:-//SVP Luzern //NONSGML Events //EN
CALSCALE:GREGORIAN
X-WR-CALNAME:SVP Luzern
BEGIN:VEVENT
CREATED:20221006T062614Z
UID:24654
DTEND:20231225T000000
DTSTART:20231225T000000
DTSTAMP:20231024T044212Z
LOCATION:
DESCRIPTION:
SUMMARY:Weihnachten
ORGANIZER:
URL;VALUE=URI:https://www.svp-lu.ch/termine/weihnachten-5/
TRANSP:OPAQUE
END:VEVENT
END:VCALENDAR
