BEGIN:VCALENDAR
VERSION:2.0
PRODID:-//SVP Luzern //NONSGML Events //EN
CALSCALE:GREGORIAN
X-WR-CALNAME:SVP Luzern
BEGIN:VEVENT
CREATED:20221006T063130Z
UID:24791
DTEND:20221006T120000
DTSTART:20230106T140000
DTSTAMP:20231024T054857Z
LOCATION:Bad Horn
DESCRIPTION:
SUMMARY:Bad Horn-Tagung
ORGANIZER:
URL;VALUE=URI:https://www.svp-lu.ch/termine/bad-horn-tagung-5/
TRANSP:OPAQUE
END:VEVENT
END:VCALENDAR
