BEGIN:VCALENDAR
VERSION:2.0
PRODID:-//SVP Luzern //NONSGML Events //EN
CALSCALE:GREGORIAN
X-WR-CALNAME:SVP Luzern
BEGIN:VEVENT
CREATED:20221006T063130Z
UID:24792
DTEND:20230106T000000
DTSTART:20230106T000000
DTSTAMP:20231024T055836Z
LOCATION:
DESCRIPTION:
SUMMARY:Redaktionsschluss SVP NEWS (Januar)
ORGANIZER:
URL;VALUE=URI:https://www.svp-lu.ch/termine/redaktionsschluss-svp-news-januar-3/
TRANSP:OPAQUE
END:VEVENT
END:VCALENDAR
