BEGIN:VCALENDAR
VERSION:2.0
PRODID:-//SVP Luzern //NONSGML Events //EN
CALSCALE:GREGORIAN
X-WR-CALNAME:SVP Luzern
BEGIN:VEVENT
CREATED:20221006T063130Z
UID:24793
DTEND:20230109T220000
DTSTART:20230109T193000
DTSTAMP:20231024T055837Z
LOCATION:Hochdorf
DESCRIPTION:
SUMMARY:Nominationsversammung WK Hochdorf
ORGANIZER:WK Hochdorf
URL;VALUE=URI:https://www.svp-lu.ch/termine/nominationsversammung-wk-hochdorf/
TRANSP:OPAQUE
END:VEVENT
END:VCALENDAR
