BEGIN:VCALENDAR
VERSION:2.0
PRODID:-//SVP Luzern //NONSGML Events //EN
CALSCALE:GREGORIAN
X-WR-CALNAME:SVP Luzern
BEGIN:VEVENT
CREATED:20221006T063130Z
UID:24794
DTEND:20230112T213000
DTSTART:20230112T193000
DTSTAMP:20231024T055602Z
LOCATION:Hirschen\, Oberkirch
DESCRIPTION:
SUMMARY:GL-Sitzung 2023/01
ORGANIZER:
URL;VALUE=URI:https://www.svp-lu.ch/termine/gl-sitzung-2023-01/
TRANSP:OPAQUE
END:VEVENT
END:VCALENDAR
