BEGIN:VCALENDAR
VERSION:2.0
PRODID:-//SVP Luzern //NONSGML Events //EN
CALSCALE:GREGORIAN
X-WR-CALNAME:SVP Luzern
BEGIN:VEVENT
CREATED:20221006T063130Z
UID:24795
DTEND:20230113T220000
DTSTART:20230113T193000
DTSTAMP:20231024T055732Z
LOCATION:Schlossschür\, Willisau
DESCRIPTION:
SUMMARY:Nominationsversammung WK Willisau
ORGANIZER:WK Willisau
URL;VALUE=URI:https://www.svp-lu.ch/termine/nominationsversammung-wk-willisau/
TRANSP:OPAQUE
END:VEVENT
END:VCALENDAR
