BEGIN:VCALENDAR
VERSION:2.0
PRODID:-//SVP Luzern //NONSGML Events //EN
CALSCALE:GREGORIAN
X-WR-CALNAME:SVP Luzern
BEGIN:VEVENT
CREATED:20221006T063130Z
UID:24797
DTEND:20230123T000000
DTSTART:20230123T000000
DTSTAMP:20231024T060427Z
LOCATION:
DESCRIPTION:
SUMMARY:Eingabe Wahllisten
ORGANIZER:
URL;VALUE=URI:https://www.svp-lu.ch/termine/eingabe-wahllisten/
TRANSP:OPAQUE
END:VEVENT
END:VCALENDAR
