BEGIN:VCALENDAR
VERSION:2.0
PRODID:-//SVP Luzern //NONSGML Events //EN
CALSCALE:GREGORIAN
X-WR-CALNAME:SVP Luzern
BEGIN:VEVENT
CREATED:20221006T063131Z
UID:24800
DTEND:20230127T140000
DTSTART:20230127T130000
DTSTAMP:20231024T055628Z
LOCATION:
DESCRIPTION:
SUMMARY:Parteileitung SVP CH
ORGANIZER:ZH
URL;VALUE=URI:https://www.svp-lu.ch/termine/parteileitung-svp-ch-15/
TRANSP:OPAQUE
END:VEVENT
END:VCALENDAR
