BEGIN:VCALENDAR
VERSION:2.0
PRODID:-//SVP Luzern //NONSGML Events //EN
CALSCALE:GREGORIAN
X-WR-CALNAME:SVP Luzern
BEGIN:VEVENT
CREATED:20221006T063131Z
UID:24801
DTEND:20230127T190000
DTSTART:20230127T140000
DTSTAMP:20231024T055025Z
LOCATION:Bern
DESCRIPTION:
SUMMARY:Parteileitung/Parteivorstand mit Sekretären
ORGANIZER:
URL;VALUE=URI:https://www.svp-lu.ch/termine/parteileitung-parteivorstand-mit-sekretaeren-19/
TRANSP:OPAQUE
END:VEVENT
END:VCALENDAR
