BEGIN:VCALENDAR
VERSION:2.0
PRODID:-//SVP Luzern //NONSGML Events //EN
CALSCALE:GREGORIAN
X-WR-CALNAME:SVP Luzern
BEGIN:VEVENT
CREATED:20221006T063131Z
UID:24805
DTEND:20230202T220000
DTSTART:20230202T193000
DTSTAMP:20231024T055017Z
LOCATION:
DESCRIPTION:Diese Delegiertenversammlung wird ersatzlos gestrichen, da im März ke
SUMMARY:Abgesagt\; Kantonale Delegiertenversammlung
ORGANIZER:
URL;VALUE=URI:https://www.svp-lu.ch/termine/kant-delegiertenversammlung-18/
TRANSP:OPAQUE
END:VEVENT
END:VCALENDAR
