BEGIN:VCALENDAR
VERSION:2.0
PRODID:-//SVP Luzern //NONSGML Events //EN
CALSCALE:GREGORIAN
X-WR-CALNAME:SVP Luzern
BEGIN:VEVENT
CREATED:20221006T063131Z
UID:24807
DTEND:20230209T210000
DTSTART:20230209T163000
DTSTAMP:20231024T060356Z
LOCATION:
DESCRIPTION:
SUMMARY:GL-Sitzung 2023/02
ORGANIZER:
URL;VALUE=URI:https://www.svp-lu.ch/termine/gl-sitzung-2023-02/
TRANSP:OPAQUE
END:VEVENT
END:VCALENDAR
