BEGIN:VCALENDAR
VERSION:2.0
PRODID:-//SVP Luzern //NONSGML Events //EN
CALSCALE:GREGORIAN
X-WR-CALNAME:SVP Luzern
BEGIN:VEVENT
CREATED:20221006T063131Z
UID:24808
DTEND:20230209T220000
DTSTART:20230209T180000
DTSTAMP:20231024T060009Z
LOCATION:Stadt Luzern
DESCRIPTION:
SUMMARY:Grossstadtratssitzung Luzern
ORGANIZER:
URL;VALUE=URI:https://www.svp-lu.ch/termine/grossstadtratssitzung-luzern-53/
TRANSP:OPAQUE
END:VEVENT
END:VCALENDAR
