BEGIN:VCALENDAR
VERSION:2.0
PRODID:-//SVP Luzern //NONSGML Events //EN
CALSCALE:GREGORIAN
X-WR-CALNAME:SVP Luzern
BEGIN:VEVENT
CREATED:20221006T063132Z
UID:24812
DTEND:20230216T000000
DTSTART:20230216T000000
DTSTAMP:20231024T055311Z
LOCATION:
DESCRIPTION:
SUMMARY:Schmutziger Donnerstag
ORGANIZER:
URL;VALUE=URI:https://www.svp-lu.ch/termine/schmutziger-donnerstag-5/
TRANSP:OPAQUE
END:VEVENT
END:VCALENDAR
