BEGIN:VCALENDAR
VERSION:2.0
PRODID:-//SVP Luzern //NONSGML Events //EN
CALSCALE:GREGORIAN
X-WR-CALNAME:SVP Luzern
BEGIN:VEVENT
CREATED:20221006T063132Z
UID:24813
DTEND:20230217T000000
DTSTART:20230217T000000
DTSTAMP:20231024T055930Z
LOCATION:
DESCRIPTION:
SUMMARY:Erscheinungsdatum SVP NEWS (Februar)
ORGANIZER:
URL;VALUE=URI:https://www.svp-lu.ch/termine/erscheinungsdatum-svp-news-februar-3/
TRANSP:OPAQUE
END:VEVENT
END:VCALENDAR
