BEGIN:VCALENDAR
VERSION:2.0
PRODID:-//SVP Luzern //NONSGML Events //EN
CALSCALE:GREGORIAN
X-WR-CALNAME:SVP Luzern
BEGIN:VEVENT
CREATED:20221006T063132Z
UID:24814
DTEND:20230218T173000
DTSTART:20230218T080000
DTSTAMP:20231024T060119Z
LOCATION:Mehrzweckhalle in 5436 Würenlos
DESCRIPTION:Mehrzweckhalle in 5436 Würenlos
SUMMARY:SVP-Jasscup
ORGANIZER:
URL;VALUE=URI:https://www.svp-lu.ch/termine/svp-jasscup-5/
TRANSP:OPAQUE
END:VEVENT
END:VCALENDAR
