BEGIN:VCALENDAR
VERSION:2.0
PRODID:-//SVP Luzern //NONSGML Events //EN
CALSCALE:GREGORIAN
X-WR-CALNAME:SVP Luzern
BEGIN:VEVENT
CREATED:20221006T063132Z
UID:24815
DTEND:20230220T000000
DTSTART:20230220T000000
DTSTAMP:20231024T055515Z
LOCATION:
DESCRIPTION:
SUMMARY:Güdismontag
ORGANIZER:
URL;VALUE=URI:https://www.svp-lu.ch/termine/guedismontag-5/
TRANSP:OPAQUE
END:VEVENT
END:VCALENDAR
