BEGIN:VCALENDAR
VERSION:2.0
PRODID:-//SVP Luzern //NONSGML Events //EN
CALSCALE:GREGORIAN
X-WR-CALNAME:SVP Luzern
BEGIN:VEVENT
CREATED:20221006T063132Z
UID:24817
DTEND:20230222T221000
DTSTART:20230222T190000
DTSTAMP:20231024T055530Z
LOCATION:Festhalle Willisau
DESCRIPTION:→zum Zeitplan← 
SUMMARY:Aschermittwochsanlass
ORGANIZER:WK Willisau
URL;VALUE=URI:https://www.svp-lu.ch/termine/aschermittwochsanlass/
TRANSP:OPAQUE
END:VEVENT
END:VCALENDAR
