BEGIN:VCALENDAR
VERSION:2.0
PRODID:-//SVP Luzern //NONSGML Events //EN
CALSCALE:GREGORIAN
X-WR-CALNAME:SVP Luzern
BEGIN:VEVENT
CREATED:20221006T063132Z
UID:24819
DTEND:20230307T220000
DTSTART:20230307T180000
DTSTAMP:20231024T060329Z
LOCATION:Bern
DESCRIPTION:
SUMMARY:Treffen SVP-Bundeshausfraktion mit den kantonalen Fraktionspräsidenten
ORGANIZER:
URL;VALUE=URI:https://www.svp-lu.ch/termine/treffen-svp-bundeshausfraktion-mit-den-kantonalen-fraktionspraesidenten-5/
TRANSP:OPAQUE
END:VEVENT
END:VCALENDAR
