BEGIN:VCALENDAR
VERSION:2.0
PRODID:-//SVP Luzern //NONSGML Events //EN
CALSCALE:GREGORIAN
X-WR-CALNAME:SVP Luzern
BEGIN:VEVENT
CREATED:20221006T063133Z
UID:24821
DTEND:20230309T210000
DTSTART:20230309T163000
DTSTAMP:20231024T055904Z
LOCATION:
DESCRIPTION:
SUMMARY:GL-Sitzung 2023/03
ORGANIZER:
URL;VALUE=URI:https://www.svp-lu.ch/termine/gl-sitzung-2023-03/
TRANSP:OPAQUE
END:VEVENT
END:VCALENDAR
