BEGIN:VCALENDAR
VERSION:2.0
PRODID:-//SVP Luzern //NONSGML Events //EN
CALSCALE:GREGORIAN
X-WR-CALNAME:SVP Luzern
BEGIN:VEVENT
CREATED:20221006T063133Z
UID:24824
DTEND:20230312T000000
DTSTART:20230312T000000
DTSTAMP:20231024T060136Z
LOCATION:
DESCRIPTION:Es finden keine kantonalen und nationalen Abstimmungen statt
SUMMARY:Eidg und Kant. Abstimmung
ORGANIZER:
URL;VALUE=URI:https://www.svp-lu.ch/termine/eidg-und-kant-abstimmung-5/
TRANSP:OPAQUE
END:VEVENT
END:VCALENDAR
