BEGIN:VCALENDAR
VERSION:2.0
PRODID:-//SVP Luzern //NONSGML Events //EN
CALSCALE:GREGORIAN
X-WR-CALNAME:SVP Luzern
BEGIN:VEVENT
CREATED:20221006T063133Z
UID:24825
DTEND:20230313T180000
DTSTART:20230313T140000
DTSTAMP:20231024T060102Z
LOCATION:Bern
DESCRIPTION:
SUMMARY:Treffen Bundesrichter
ORGANIZER:
URL;VALUE=URI:https://www.svp-lu.ch/termine/treffen-bundesrichter-5/
TRANSP:OPAQUE
END:VEVENT
END:VCALENDAR
