BEGIN:VCALENDAR
VERSION:2.0
PRODID:-//SVP Luzern //NONSGML Events //EN
CALSCALE:GREGORIAN
X-WR-CALNAME:SVP Luzern
BEGIN:VEVENT
CREATED:20221006T063133Z
UID:24826
DTEND:20230315T220000
DTSTART:20230315T200000
DTSTAMP:20231024T055839Z
LOCATION:
DESCRIPTION:
SUMMARY:Kant. Fraktionssitzung
ORGANIZER:WK Sursee
URL;VALUE=URI:https://www.svp-lu.ch/termine/kant-fraktionssitzung-30/
TRANSP:OPAQUE
END:VEVENT
END:VCALENDAR
