BEGIN:VCALENDAR
VERSION:2.0
PRODID:-//SVP Luzern //NONSGML Events //EN
CALSCALE:GREGORIAN
X-WR-CALNAME:SVP Luzern
BEGIN:VEVENT
CREATED:20221006T063133Z
UID:24830
DTEND:20230318T153000
DTSTART:20230318T100000
DTSTAMP:20231024T055941Z
LOCATION:GE
DESCRIPTION:
SUMMARY:Eidg.Delegiertenversammlung
ORGANIZER:
URL;VALUE=URI:https://www.svp-lu.ch/termine/eidg-delegiertenversammlung-20/
TRANSP:OPAQUE
END:VEVENT
END:VCALENDAR
