BEGIN:VCALENDAR
VERSION:2.0
PRODID:-//SVP Luzern //NONSGML Events //EN
CALSCALE:GREGORIAN
X-WR-CALNAME:SVP Luzern
BEGIN:VEVENT
CREATED:20221006T063134Z
UID:24832
DTEND:20230404T220000
DTSTART:20230404T193000
DTSTAMP:20231024T060417Z
LOCATION:Businesspark Aentlebuch AG\, Bahnhofstrasse 42\, 6162 Entlebuch
DESCRIPTION:
SUMMARY:Kant. Delegiertenversammlung
ORGANIZER:
URL;VALUE=URI:https://www.svp-lu.ch/termine/kant-delegiertenversammlung-april-2023/
TRANSP:OPAQUE
END:VEVENT
END:VCALENDAR
