BEGIN:VCALENDAR
VERSION:2.0
PRODID:-//SVP Luzern //NONSGML Events //EN
CALSCALE:GREGORIAN
X-WR-CALNAME:SVP Luzern
BEGIN:VEVENT
CREATED:20221006T063134Z
UID:24837
DTEND:20230402T000000
DTSTART:20230402T000000
DTSTAMP:20231024T055550Z
LOCATION:
DESCRIPTION:
SUMMARY:Kantonsrats- und Regierungsratswahlen
ORGANIZER:
URL;VALUE=URI:https://www.svp-lu.ch/termine/kantonsrats-und-regierungsratswahlen/
TRANSP:OPAQUE
END:VEVENT
END:VCALENDAR
