BEGIN:VCALENDAR
VERSION:2.0
PRODID:-//SVP Luzern //NONSGML Events //EN
CALSCALE:GREGORIAN
X-WR-CALNAME:SVP Luzern
BEGIN:VEVENT
CREATED:20221006T063134Z
UID:24839
DTEND:20230404T220000
DTSTART:20230404T200000
DTSTAMP:20231024T060235Z
LOCATION:
DESCRIPTION:
SUMMARY:evtl. DV Nominierung 2. Wahlgang
ORGANIZER:noch offen
URL;VALUE=URI:https://www.svp-lu.ch/termine/evtl-dv-nominierung-2-wahlgang/
TRANSP:OPAQUE
END:VEVENT
END:VCALENDAR
