BEGIN:VCALENDAR
VERSION:2.0
PRODID:-//SVP Luzern //NONSGML Events //EN
CALSCALE:GREGORIAN
X-WR-CALNAME:SVP Luzern
BEGIN:VEVENT
CREATED:20221006T063134Z
UID:24841
DTEND:20230406T000000
DTSTART:20230406T000000
DTSTAMP:20231024T055337Z
LOCATION:
DESCRIPTION:
SUMMARY:Frist Einreichung 2. WG  RR Luzern
ORGANIZER:
URL;VALUE=URI:https://www.svp-lu.ch/termine/frist-einreichung-2-wg-rr-luzern/
TRANSP:OPAQUE
END:VEVENT
END:VCALENDAR
