BEGIN:VCALENDAR
VERSION:2.0
PRODID:-//SVP Luzern //NONSGML Events //EN
CALSCALE:GREGORIAN
X-WR-CALNAME:SVP Luzern
BEGIN:VEVENT
CREATED:20221006T063134Z
UID:24842
DTEND:20230406T210000
DTSTART:20230406T163000
DTSTAMP:20231024T060213Z
LOCATION:
DESCRIPTION:
SUMMARY:GL-Sitzung 2023/04
ORGANIZER:
URL;VALUE=URI:https://www.svp-lu.ch/termine/gl-sitzung-2023-04/
TRANSP:OPAQUE
END:VEVENT
END:VCALENDAR
