BEGIN:VCALENDAR
VERSION:2.0
PRODID:-//SVP Luzern //NONSGML Events //EN
CALSCALE:GREGORIAN
X-WR-CALNAME:SVP Luzern
BEGIN:VEVENT
CREATED:20221006T063134Z
UID:24843
DTEND:20230406T220000
DTSTART:20230406T193000
DTSTAMP:20231024T055605Z
LOCATION:Vogelsang
DESCRIPTION:
SUMMARY:Sitzung Parteileitung 2023/02
ORGANIZER:
URL;VALUE=URI:https://www.svp-lu.ch/termine/sitzung-parteileitung-2023-02/
TRANSP:OPAQUE
END:VEVENT
END:VCALENDAR
