BEGIN:VCALENDAR
VERSION:2.0
PRODID:-//SVP Luzern //NONSGML Events //EN
CALSCALE:GREGORIAN
X-WR-CALNAME:SVP Luzern
BEGIN:VEVENT
CREATED:20221006T063135Z
UID:24847
DTEND:20230409T000000
DTSTART:20230409T000000
DTSTAMP:20231024T060251Z
LOCATION:
DESCRIPTION:
SUMMARY:Ostern
ORGANIZER:
URL;VALUE=URI:https://www.svp-lu.ch/termine/ostern-5/
TRANSP:OPAQUE
END:VEVENT
END:VCALENDAR
