BEGIN:VCALENDAR
VERSION:2.0
PRODID:-//SVP Luzern //NONSGML Events //EN
CALSCALE:GREGORIAN
X-WR-CALNAME:SVP Luzern
BEGIN:VEVENT
CREATED:20221006T063135Z
UID:24848
DTEND:20230410T000000
DTSTART:20230410T000000
DTSTAMP:20231024T055230Z
LOCATION:
DESCRIPTION:
SUMMARY:Ostermontag
ORGANIZER:
URL;VALUE=URI:https://www.svp-lu.ch/termine/ostermontag-5/
TRANSP:OPAQUE
END:VEVENT
END:VCALENDAR
