BEGIN:VCALENDAR
VERSION:2.0
PRODID:-//SVP Luzern //NONSGML Events //EN
CALSCALE:GREGORIAN
X-WR-CALNAME:SVP Luzern
BEGIN:VEVENT
CREATED:20221006T063136Z
UID:24857
DTEND:20230511T210000
DTSTART:20230511T163000
DTSTAMP:20231024T055542Z
LOCATION:
DESCRIPTION:
SUMMARY:GL-Sitzung 2023/05
ORGANIZER:
URL;VALUE=URI:https://www.svp-lu.ch/termine/gl-sitzung-2023-05/
TRANSP:OPAQUE
END:VEVENT
END:VCALENDAR
