BEGIN:VCALENDAR
VERSION:2.0
PRODID:-//SVP Luzern //NONSGML Events //EN
CALSCALE:GREGORIAN
X-WR-CALNAME:SVP Luzern
BEGIN:VEVENT
CREATED:20221006T063136Z
UID:24859
DTEND:20230514T000000
DTSTART:20230514T000000
DTSTAMP:20231024T060006Z
LOCATION:
DESCRIPTION:
SUMMARY:2. Wahlgang RR Luzern
ORGANIZER:
URL;VALUE=URI:https://www.svp-lu.ch/termine/2-wahlgang-rr-luzern/
TRANSP:OPAQUE
END:VEVENT
END:VCALENDAR
