BEGIN:VCALENDAR
VERSION:2.0
PRODID:-//SVP Luzern //NONSGML Events //EN
CALSCALE:GREGORIAN
X-WR-CALNAME:SVP Luzern
BEGIN:VEVENT
CREATED:20221006T063136Z
UID:24860
DTEND:20230514T000000
DTSTART:20230514T000000
DTSTAMP:20231024T060238Z
LOCATION:
DESCRIPTION:
SUMMARY:Muttertag
ORGANIZER:
URL;VALUE=URI:https://www.svp-lu.ch/termine/muttertag-5/
TRANSP:OPAQUE
END:VEVENT
END:VCALENDAR
