BEGIN:VCALENDAR
VERSION:2.0
PRODID:-//SVP Luzern //NONSGML Events //EN
CALSCALE:GREGORIAN
X-WR-CALNAME:SVP Luzern
BEGIN:VEVENT
CREATED:20221006T063136Z
UID:24862
DTEND:20221006T000000
DTSTART:20230518T000000
DTSTAMP:20231024T060205Z
LOCATION:
DESCRIPTION:
SUMMARY:Schulferien Auffahrt Kanton Luzern
ORGANIZER:
URL;VALUE=URI:https://www.svp-lu.ch/termine/schulferien-auffahrt-kanton-luzern-3/
TRANSP:OPAQUE
END:VEVENT
END:VCALENDAR
