BEGIN:VCALENDAR
VERSION:2.0
PRODID:-//SVP Luzern //NONSGML Events //EN
CALSCALE:GREGORIAN
X-WR-CALNAME:SVP Luzern
BEGIN:VEVENT
CREATED:20221006T063137Z
UID:24870
DTEND:20230607T230000
DTSTART:20230607T130000
DTSTAMP:20231024T054937Z
LOCATION:
DESCRIPTION:
SUMMARY:Fraktionsausflug SVP Schweiz
ORGANIZER:
URL;VALUE=URI:https://www.svp-lu.ch/termine/fraktionsausflug-svp-schweiz-5/
TRANSP:OPAQUE
END:VEVENT
END:VCALENDAR
