BEGIN:VCALENDAR
VERSION:2.0
PRODID:-//SVP Luzern //NONSGML Events //EN
CALSCALE:GREGORIAN
X-WR-CALNAME:SVP Luzern
BEGIN:VEVENT
CREATED:20221006T063138Z
UID:24877
DTEND:20230618T000000
DTSTART:20230618T000000
DTSTAMP:20231024T055152Z
LOCATION:
DESCRIPTION:
SUMMARY:Eidg und Kant. Abstimmung
ORGANIZER:
URL;VALUE=URI:https://www.svp-lu.ch/termine/eidg-und-kant-abstimmung-6/
TRANSP:OPAQUE
END:VEVENT
END:VCALENDAR
