BEGIN:VCALENDAR
VERSION:2.0
PRODID:-//SVP Luzern //NONSGML Events //EN
CALSCALE:GREGORIAN
X-WR-CALNAME:SVP Luzern
BEGIN:VEVENT
CREATED:20221006T063138Z
UID:24879
DTEND:20230619T100000
DTSTART:20230619T080000
DTSTAMP:20231024T055419Z
LOCATION:
DESCRIPTION:
SUMMARY:Gottesdienst Kantonsrat
ORGANIZER:
URL;VALUE=URI:https://www.svp-lu.ch/termine/gottesdienst-kantonsrat-5/
TRANSP:OPAQUE
END:VEVENT
END:VCALENDAR
