BEGIN:VCALENDAR
VERSION:2.0
PRODID:-//SVP Luzern //NONSGML Events //EN
CALSCALE:GREGORIAN
X-WR-CALNAME:SVP Luzern
BEGIN:VEVENT
CREATED:20221006T063138Z
UID:24880
DTEND:20230620T220000
DTSTART:20230620T190000
DTSTAMP:20231024T055724Z
LOCATION:Emmen
DESCRIPTION:
SUMMARY:Präsidentenfeier Kantonsrat Luzern
ORGANIZER:
URL;VALUE=URI:https://www.svp-lu.ch/termine/praesidentenfeier-kantonsrat-luzern-5/
TRANSP:OPAQUE
END:VEVENT
END:VCALENDAR
