BEGIN:VCALENDAR
VERSION:2.0
PRODID:-//SVP Luzern //NONSGML Events //EN
CALSCALE:GREGORIAN
X-WR-CALNAME:SVP Luzern
BEGIN:VEVENT
CREATED:20221006T063138Z
UID:24881
DTEND:20230622T000000
DTSTART:20230622T000000
DTSTAMP:20231024T054943Z
LOCATION:Pilatussaal
DESCRIPTION:
SUMMARY:Einwohnerratssitzung Kriens
ORGANIZER:
URL;VALUE=URI:https://www.svp-lu.ch/termine/einwohnerratssitzung-kriens-34/
TRANSP:OPAQUE
END:VEVENT
END:VCALENDAR
