BEGIN:VCALENDAR
VERSION:2.0
PRODID:-//SVP Luzern //NONSGML Events //EN
CALSCALE:GREGORIAN
X-WR-CALNAME:SVP Luzern
BEGIN:VEVENT
CREATED:20221006T063138Z
UID:24882
DTEND:20230622T220000
DTSTART:20230622T193000
DTSTAMP:20231024T060403Z
LOCATION:Vogelsang\, Eich
DESCRIPTION:
SUMMARY:Sitzung Parteileitung 2023/03
ORGANIZER:
URL;VALUE=URI:https://www.svp-lu.ch/termine/sitzung-parteileitung-2023-03/
TRANSP:OPAQUE
END:VEVENT
END:VCALENDAR
