BEGIN:VCALENDAR
VERSION:2.0
PRODID:-//SVP Luzern //NONSGML Events //EN
CALSCALE:GREGORIAN
X-WR-CALNAME:SVP Luzern
BEGIN:VEVENT
CREATED:20221006T063139Z
UID:24885
DTEND:20230630T140000
DTSTART:20230630T130000
DTSTAMP:20231024T060322Z
LOCATION:
DESCRIPTION:
SUMMARY:Parteileitung SVP CH
ORGANIZER:
URL;VALUE=URI:https://www.svp-lu.ch/termine/parteileitung-svp-ch-19/
TRANSP:OPAQUE
END:VEVENT
END:VCALENDAR
