BEGIN:VCALENDAR
VERSION:2.0
PRODID:-//SVP Luzern //NONSGML Events //EN
CALSCALE:GREGORIAN
X-WR-CALNAME:SVP Luzern
BEGIN:VEVENT
CREATED:20221006T063139Z
UID:24887
DTEND:20230701T153000
DTSTART:20230701T100000
DTSTAMP:20231024T055935Z
LOCATION:SZ
DESCRIPTION:
SUMMARY:Themenparteitag SVP CH
ORGANIZER:spezial
URL;VALUE=URI:https://www.svp-lu.ch/termine/themenparteitag-svp-ch/
TRANSP:OPAQUE
END:VEVENT
END:VCALENDAR
