BEGIN:VCALENDAR
VERSION:2.0
PRODID:-//SVP Luzern //NONSGML Events //EN
CALSCALE:GREGORIAN
X-WR-CALNAME:SVP Luzern
BEGIN:VEVENT
CREATED:20221006T063139Z
UID:24891
DTEND:20230720T210000
DTSTART:20230720T163000
DTSTAMP:20231024T055806Z
LOCATION:evtl. online
DESCRIPTION:
SUMMARY:GL-Sitzung 2023/07
ORGANIZER:
URL;VALUE=URI:https://www.svp-lu.ch/termine/gl-sitzung-2023-07/
TRANSP:OPAQUE
END:VEVENT
END:VCALENDAR
